BEGIN:VCALENDAR
VERSION:2.0
PRODID:-//Golden Thread Livestock Images - ECPv5.9.0//NONSGML v1.0//EN
CALSCALE:GREGORIAN
METHOD:PUBLISH
X-WR-CALNAME:Golden Thread Livestock Images
X-ORIGINAL-URL:https://goldenthread.ca
X-WR-CALDESC:Events for Golden Thread Livestock Images
BEGIN:VTIMEZONE
TZID:UTC
BEGIN:STANDARD
TZOFFSETFROM:+0000
TZOFFSETTO:+0000
TZNAME:UTC
DTSTART:20250101T000000
END:STANDARD
END:VTIMEZONE
BEGIN:VEVENT
DTSTART;TZID=UTC:20250810T080000
DTEND;TZID=UTC:20260831T170000
DTSTAMP:20260423T104049
CREATED:20250812T223038Z
LAST-MODIFIED:20250812T223038Z
UID:4932-1754812800-1788195600@goldenthread.ca
SUMMARY:2025 4-H Sask Provincial Beef Show
DESCRIPTION:
URL:https://goldenthread.ca/event/2025-4-h-sask-provincial-beef-show/
LOCATION:Yorkton Exhbition\, Yorkton\, Saskatchewan\, Canada
END:VEVENT
END:VCALENDAR