BEGIN:VCALENDAR
VERSION:2.0
PRODID:-//Golden Thread Livestock Images - ECPv5.9.0//NONSGML v1.0//EN
CALSCALE:GREGORIAN
METHOD:PUBLISH
X-WR-CALNAME:Golden Thread Livestock Images
X-ORIGINAL-URL:https://goldenthread.ca
X-WR-CALDESC:Events for Golden Thread Livestock Images
BEGIN:VTIMEZONE
TZID:UTC
BEGIN:STANDARD
TZOFFSETFROM:+0000
TZOFFSETTO:+0000
TZNAME:UTC
DTSTART:20250101T000000
END:STANDARD
END:VTIMEZONE
BEGIN:VEVENT
DTSTART;TZID=UTC:20250304T080000
DTEND;TZID=UTC:20250731T233000
DTSTAMP:20260423T120445
CREATED:20250304T150424Z
LAST-MODIFIED:20250304T150424Z
UID:4871-1741075200-1754004600@goldenthread.ca
SUMMARY:2025 Hanson Angus Private Treaty Bulls
DESCRIPTION:
URL:https://goldenthread.ca/event/2025-hanson-angus-private-treaty-bulls/
LOCATION:Hanson Angus\, Val Marie\, Saskatchewan\, Canada
ATTACH;FMTTYPE=image/jpeg:https://goldenthread.ca/wp-content/uploads/2025/03/HansonLogo.jpg
END:VEVENT
END:VCALENDAR