BEGIN:VCALENDAR
VERSION:2.0
PRODID:-//Golden Thread Livestock Images - ECPv5.9.0//NONSGML v1.0//EN
CALSCALE:GREGORIAN
METHOD:PUBLISH
X-WR-CALNAME:Golden Thread Livestock Images
X-ORIGINAL-URL:https://goldenthread.ca
X-WR-CALDESC:Events for Golden Thread Livestock Images
BEGIN:VTIMEZONE
TZID:UTC
BEGIN:STANDARD
TZOFFSETFROM:+0000
TZOFFSETTO:+0000
TZNAME:UTC
DTSTART:20250101T000000
END:STANDARD
END:VTIMEZONE
BEGIN:VEVENT
DTSTART;TZID=UTC:20250702T080000
DTEND;TZID=UTC:20250702T233000
DTSTAMP:20260423T120918
CREATED:20250702T025433Z
LAST-MODIFIED:20250702T025433Z
UID:4927-1751443200-1751499000@goldenthread.ca
SUMMARY:2025 Yorkton 4-H Regional Show & Sale
DESCRIPTION:
URL:https://goldenthread.ca/event/2025-yorkton-4-h-regional-show-sale/
LOCATION:Yorkton Exhbition\, Yorkton\, Saskatchewan\, Canada
ATTACH;FMTTYPE=image/jpeg:https://goldenthread.ca/wp-content/uploads/2025/07/250701Yorkton-1_1.jpg
END:VEVENT
END:VCALENDAR