BEGIN:VCALENDAR
VERSION:2.0
PRODID:-//Golden Thread Livestock Images - ECPv5.9.0//NONSGML v1.0//EN
CALSCALE:GREGORIAN
METHOD:PUBLISH
X-WR-CALNAME:Golden Thread Livestock Images
X-ORIGINAL-URL:https://goldenthread.ca
X-WR-CALDESC:Events for Golden Thread Livestock Images
BEGIN:VTIMEZONE
TZID:UTC
BEGIN:STANDARD
TZOFFSETFROM:+0000
TZOFFSETTO:+0000
TZNAME:UTC
DTSTART:20250101T000000
END:STANDARD
END:VTIMEZONE
BEGIN:VEVENT
DTSTART;TZID=UTC:20250702T080000
DTEND;TZID=UTC:20260731T170000
DTSTAMP:20260423T104320
CREATED:20250812T223334Z
LAST-MODIFIED:20250812T223334Z
UID:4937-1751443200-1785517200@goldenthread.ca
SUMMARY:2025 Yorkton Regional 4-H Beef Show & Sale
DESCRIPTION:
URL:https://goldenthread.ca/event/2025-yorkton-regional-4-h-beef-show-sale/
LOCATION:Yorkton Exhbition\, Yorkton\, Saskatchewan\, Canada
END:VEVENT
END:VCALENDAR