BEGIN:VCALENDAR
VERSION:2.0
PRODID:-//Golden Thread Livestock Images - ECPv5.9.0//NONSGML v1.0//EN
CALSCALE:GREGORIAN
METHOD:PUBLISH
X-WR-CALNAME:Golden Thread Livestock Images
X-ORIGINAL-URL:https://goldenthread.ca
X-WR-CALDESC:Events for Golden Thread Livestock Images
BEGIN:VTIMEZONE
TZID:UTC
BEGIN:STANDARD
TZOFFSETFROM:+0000
TZOFFSETTO:+0000
TZNAME:UTC
DTSTART:20210101T000000
END:STANDARD
END:VTIMEZONE
BEGIN:VEVENT
DTSTART;TZID=UTC:20210212T080000
DTEND;TZID=UTC:20210212T170000
DTSTAMP:20260421T181257
CREATED:20210212T023654Z
LAST-MODIFIED:20210222T162655Z
UID:2753-1613116800-1613149200@goldenthread.ca
SUMMARY:27th Annual MRL Bull Sale
DESCRIPTION:
URL:https://goldenthread.ca/event/27th-annual-mrl-bull-sale/
ATTACH;FMTTYPE=image/jpeg:https://goldenthread.ca/wp-content/uploads/2021/02/210306MRLCatCov.jpg
END:VEVENT
END:VCALENDAR