BEGIN:VCALENDAR
VERSION:2.0
PRODID:-//Golden Thread Livestock Images - ECPv5.9.0//NONSGML v1.0//EN
CALSCALE:GREGORIAN
METHOD:PUBLISH
X-WR-CALNAME:Golden Thread Livestock Images
X-ORIGINAL-URL:https://goldenthread.ca
X-WR-CALDESC:Events for Golden Thread Livestock Images
BEGIN:VTIMEZONE
TZID:UTC
BEGIN:STANDARD
TZOFFSETFROM:+0000
TZOFFSETTO:+0000
TZNAME:UTC
DTSTART:20210101T000000
END:STANDARD
END:VTIMEZONE
BEGIN:VEVENT
DTSTART;TZID=UTC:20210219T130000
DTEND;TZID=UTC:20210219T233000
DTSTAMP:20260421T140853
CREATED:20201227T172101Z
LAST-MODIFIED:20210131T022631Z
UID:2658-1613739600-1613777400@goldenthread.ca
SUMMARY:4th Annual Stephen Charolais & Guests "Muscle Up" Bull Sale
DESCRIPTION:
URL:https://goldenthread.ca/event/4th-annual-stephen-charolais-guests-muscle-up-bull-sale/
LOCATION:Whitewood Livestock Sales\, SK-1\, Whitewood\, Saskatchewan\, S0G 5C0\, Canada
ATTACH;FMTTYPE=image/jpeg:https://goldenthread.ca/wp-content/uploads/2020/12/210219MuscleUpCatCov.jpg
ORGANIZER;CN="By%20Livestock":MAILTO:charolaisbanner@gmail.com
END:VEVENT
END:VCALENDAR