BEGIN:VCALENDAR
VERSION:2.0
PRODID:-//Golden Thread Livestock Images - ECPv5.9.0//NONSGML v1.0//EN
CALSCALE:GREGORIAN
METHOD:PUBLISH
X-WR-CALNAME:Golden Thread Livestock Images
X-ORIGINAL-URL:https://goldenthread.ca
X-WR-CALDESC:Events for Golden Thread Livestock Images
BEGIN:VTIMEZONE
TZID:UTC
BEGIN:STANDARD
TZOFFSETFROM:+0000
TZOFFSETTO:+0000
TZNAME:UTC
DTSTART:20220101T000000
END:STANDARD
END:VTIMEZONE
BEGIN:VEVENT
DTSTART;TZID=UTC:20221214T130000
DTEND;TZID=UTC:20221214T233000
DTSTAMP:20260423T120447
CREATED:20220722T180857Z
LAST-MODIFIED:20221116T001755Z
UID:4027-1671022800-1671060600@goldenthread.ca
SUMMARY:66 Ranch Ltd. 9th Annual Fall Bull Sale
DESCRIPTION:
URL:https://goldenthread.ca/event/66-ranch-ltd-9th-annual-fall-bull-sale/
LOCATION:Bow Slope Shipping\, Brooks\, AB
ATTACH;FMTTYPE=image/jpeg:https://goldenthread.ca/wp-content/uploads/2022/07/22121466RanchCatCov.jpg
END:VEVENT
END:VCALENDAR