BEGIN:VCALENDAR
VERSION:2.0
PRODID:-//Golden Thread Livestock Images - ECPv5.9.0//NONSGML v1.0//EN
CALSCALE:GREGORIAN
METHOD:PUBLISH
X-WR-CALNAME:Golden Thread Livestock Images
X-ORIGINAL-URL:https://goldenthread.ca
X-WR-CALDESC:Events for Golden Thread Livestock Images
BEGIN:VTIMEZONE
TZID:UTC
BEGIN:STANDARD
TZOFFSETFROM:+0000
TZOFFSETTO:+0000
TZNAME:UTC
DTSTART:20200101T000000
END:STANDARD
END:VTIMEZONE
BEGIN:VEVENT
DTSTART;TZID=UTC:20200613T090000
DTEND;TZID=UTC:20200613T233000
DTSTAMP:20260424T080121
CREATED:20200429T155616Z
LAST-MODIFIED:20200527T165914Z
UID:1905-1592038800-1592091000@goldenthread.ca
SUMMARY:Alameda Regional 4-H Sale
DESCRIPTION:
URL:https://goldenthread.ca/event/alameda-regional-4-h-sale/
LOCATION:Alameda Regional 4-H\, Alameda\, Saskatchewan\, Canada
ATTACH;FMTTYPE=image/jpeg:https://goldenthread.ca/wp-content/uploads/2020/04/200613AlamedaCatCov.jpg
END:VEVENT
END:VCALENDAR