BEGIN:VCALENDAR
VERSION:2.0
PRODID:-//Golden Thread Livestock Images - ECPv5.9.0//NONSGML v1.0//EN
CALSCALE:GREGORIAN
METHOD:PUBLISH
X-WR-CALNAME:Golden Thread Livestock Images
X-ORIGINAL-URL:https://goldenthread.ca
X-WR-CALDESC:Events for Golden Thread Livestock Images
BEGIN:VTIMEZONE
TZID:UTC
BEGIN:STANDARD
TZOFFSETFROM:+0000
TZOFFSETTO:+0000
TZNAME:UTC
DTSTART:20210101T000000
END:STANDARD
END:VTIMEZONE
BEGIN:VEVENT
DTSTART;TZID=UTC:20210318T130000
DTEND;TZID=UTC:20210318T233000
DTSTAMP:20260421T161234
CREATED:20201226T191625Z
LAST-MODIFIED:20210228T143947Z
UID:2591-1616072400-1616110200@goldenthread.ca
SUMMARY:Allencroft Angus 22nd Annual Bull Sale
DESCRIPTION:
URL:https://goldenthread.ca/event/allencroft-angus-bull-sale/
LOCATION:Medicine Hat Feeding Company\, 3381 Gershaw Dr SW\, Medicine Hat\, Alberta\, T1B 3N2\, Canada
ATTACH;FMTTYPE=image/jpeg:https://goldenthread.ca/wp-content/uploads/2020/12/210318AllencroftCatCov.jpg
END:VEVENT
END:VCALENDAR