BEGIN:VCALENDAR
VERSION:2.0
PRODID:-//Golden Thread Livestock Images - ECPv5.9.0//NONSGML v1.0//EN
CALSCALE:GREGORIAN
METHOD:PUBLISH
X-WR-CALNAME:Golden Thread Livestock Images
X-ORIGINAL-URL:https://goldenthread.ca
X-WR-CALDESC:Events for Golden Thread Livestock Images
BEGIN:VTIMEZONE
TZID:UTC
BEGIN:STANDARD
TZOFFSETFROM:+0000
TZOFFSETTO:+0000
TZNAME:UTC
DTSTART:20220101T000000
END:STANDARD
END:VTIMEZONE
BEGIN:VEVENT
DTSTART;TZID=UTC:20221213T130000
DTEND;TZID=UTC:20221213T233000
DTSTAMP:20260423T122142
CREATED:20220722T180115Z
LAST-MODIFIED:20221211T061136Z
UID:4023-1670936400-1670974200@goldenthread.ca
SUMMARY:B Bar Cattle Co Bull & Female Sale
DESCRIPTION:
URL:https://goldenthread.ca/event/b-bar-cattle-co-bull-female-sale-3/
LOCATION:B Bar Cattle Co\, Lucky Lake\, Saskatchewan\, Canada
ATTACH;FMTTYPE=image/jpeg:https://goldenthread.ca/wp-content/uploads/2022/07/221213BBarCattleCatCov.jpg
END:VEVENT
END:VCALENDAR