BEGIN:VCALENDAR
VERSION:2.0
PRODID:-//Golden Thread Livestock Images - ECPv5.9.0//NONSGML v1.0//EN
CALSCALE:GREGORIAN
METHOD:PUBLISH
X-WR-CALNAME:Golden Thread Livestock Images
X-ORIGINAL-URL:https://goldenthread.ca
X-WR-CALDESC:Events for Golden Thread Livestock Images
BEGIN:VTIMEZONE
TZID:UTC
BEGIN:STANDARD
TZOFFSETFROM:+0000
TZOFFSETTO:+0000
TZNAME:UTC
DTSTART:20200101T000000
END:STANDARD
END:VTIMEZONE
BEGIN:VEVENT
DTSTART;TZID=UTC:20201215T140000
DTEND;TZID=UTC:20201215T233000
DTSTAMP:20260422T141037
CREATED:20200902T192452Z
LAST-MODIFIED:20201121T225422Z
UID:2452-1608040800-1608075000@goldenthread.ca
SUMMARY:B Bar Cattle Co Bull & Female Sale
DESCRIPTION:
URL:https://goldenthread.ca/event/b-bar-cattle-co-bull-female-sale/
LOCATION:B Bar Cattle Co\, Lucky Lake\, Saskatchewan\, Canada
ATTACH;FMTTYPE=image/jpeg:https://goldenthread.ca/wp-content/uploads/2020/09/201215BBarCatCov.jpg
END:VEVENT
END:VCALENDAR