BEGIN:VCALENDAR
VERSION:2.0
PRODID:-//Golden Thread Livestock Images - ECPv5.9.0//NONSGML v1.0//EN
CALSCALE:GREGORIAN
METHOD:PUBLISH
X-WR-CALNAME:Golden Thread Livestock Images
X-ORIGINAL-URL:https://goldenthread.ca
X-WR-CALDESC:Events for Golden Thread Livestock Images
BEGIN:VTIMEZONE
TZID:UTC
BEGIN:STANDARD
TZOFFSETFROM:+0000
TZOFFSETTO:+0000
TZNAME:UTC
DTSTART:20230101T000000
END:STANDARD
END:VTIMEZONE
BEGIN:VEVENT
DTSTART;TZID=UTC:20230222T130000
DTEND;TZID=UTC:20230222T233000
DTSTAMP:20260423T121530
CREATED:20230202T165912Z
LAST-MODIFIED:20230203T033140Z
UID:4250-1677070800-1677108600@goldenthread.ca
SUMMARY:Beck Farms & McCoy Cattle Co 14th Annual Bull Sale - McCoy Cattle Co
DESCRIPTION:
URL:https://goldenthread.ca/event/beck-farms-mccoy-cattle-co-14th-annual-bull-sale-mccoy-cattle-co/
LOCATION:Beck Farms\, Box 5\, Lang\, Saskatchewan\, S0G 2W0\, Canada
ATTACH;FMTTYPE=image/jpeg:https://goldenthread.ca/wp-content/uploads/2023/02/230222BeckMcCoyCatCov.jpg
END:VEVENT
END:VCALENDAR