BEGIN:VCALENDAR
VERSION:2.0
PRODID:-//Golden Thread Livestock Images - ECPv5.9.0//NONSGML v1.0//EN
CALSCALE:GREGORIAN
METHOD:PUBLISH
X-WR-CALNAME:Golden Thread Livestock Images
X-ORIGINAL-URL:https://goldenthread.ca
X-WR-CALDESC:Events for Golden Thread Livestock Images
BEGIN:VTIMEZONE
TZID:UTC
BEGIN:STANDARD
TZOFFSETFROM:+0000
TZOFFSETTO:+0000
TZNAME:UTC
DTSTART:20240101T000000
END:STANDARD
END:VTIMEZONE
BEGIN:VEVENT
DTSTART;TZID=UTC:20240221T140000
DTEND;TZID=UTC:20240221T233000
DTSTAMP:20260423T120523
CREATED:20240202T015404Z
LAST-MODIFIED:20240202T015404Z
UID:4796-1708524000-1708558200@goldenthread.ca
SUMMARY:Beck & McCoy 15th Annual Bull Sale
DESCRIPTION:
URL:https://goldenthread.ca/event/beck-mccoy-15th-annual-bull-sale/
LOCATION:Beck Farms\, Box 5\, Lang\, Saskatchewan\, S0G 2W0\, Canada
ATTACH;FMTTYPE=image/jpeg:https://goldenthread.ca/wp-content/uploads/2024/02/240221BeckMcCoyCatCov.jpg
END:VEVENT
END:VCALENDAR