BEGIN:VCALENDAR
VERSION:2.0
PRODID:-//Golden Thread Livestock Images - ECPv5.9.0//NONSGML v1.0//EN
CALSCALE:GREGORIAN
METHOD:PUBLISH
X-WR-CALNAME:Golden Thread Livestock Images
X-ORIGINAL-URL:https://goldenthread.ca
X-WR-CALDESC:Events for Golden Thread Livestock Images
BEGIN:VTIMEZONE
TZID:UTC
BEGIN:STANDARD
TZOFFSETFROM:+0000
TZOFFSETTO:+0000
TZNAME:UTC
DTSTART:20230101T000000
END:STANDARD
END:VTIMEZONE
BEGIN:VEVENT
DTSTART;TZID=UTC:20230325T190000
DTEND;TZID=UTC:20230325T233000
DTSTAMP:20260423T121525
CREATED:20230110T220305Z
LAST-MODIFIED:20230312T153848Z
UID:4180-1679770800-1679787000@goldenthread.ca
SUMMARY:Bender Shorthorns & Star P Farms Online Bull Sale
DESCRIPTION:
URL:https://goldenthread.ca/event/bender-shorthorns-star-p-farms-online-bull-sale-6/
LOCATION:Bender Shorthorns\, Box 296\, Neudorf\, Saskatchewan\, S0A 2T0\, Canada
ATTACH;FMTTYPE=image/png:https://goldenthread.ca/wp-content/uploads/2023/01/BenderCatCov.png
END:VEVENT
END:VCALENDAR