BEGIN:VCALENDAR
VERSION:2.0
PRODID:-//Golden Thread Livestock Images - ECPv5.9.0//NONSGML v1.0//EN
CALSCALE:GREGORIAN
METHOD:PUBLISH
X-WR-CALNAME:Golden Thread Livestock Images
X-ORIGINAL-URL:https://goldenthread.ca
X-WR-CALDESC:Events for Golden Thread Livestock Images
BEGIN:VTIMEZONE
TZID:UTC
BEGIN:STANDARD
TZOFFSETFROM:+0000
TZOFFSETTO:+0000
TZNAME:UTC
DTSTART:20220101T000000
END:STANDARD
END:VTIMEZONE
BEGIN:VEVENT
DTSTART;TZID=UTC:20221219T130000
DTEND;TZID=UTC:20221219T233000
DTSTAMP:20260423T120446
CREATED:20220722T183809Z
LAST-MODIFIED:20221211T061649Z
UID:4031-1671454800-1671492600@goldenthread.ca
SUMMARY:Blairs.Ag Cattle Co & Guests Opportunity Knocks Sale III
DESCRIPTION:
URL:https://goldenthread.ca/event/blairs-ag-cattle-co-guests-opportunity-knocks-sale-iii/
LOCATION:Blairs Cattle Co\, Lanigan\, Saskatchewan\, Canada
ATTACH;FMTTYPE=image/jpeg:https://goldenthread.ca/wp-content/uploads/2022/07/221219BlairsAgCatCov.jpg
END:VEVENT
END:VCALENDAR