BEGIN:VCALENDAR
VERSION:2.0
PRODID:-//Golden Thread Livestock Images - ECPv5.9.0//NONSGML v1.0//EN
CALSCALE:GREGORIAN
METHOD:PUBLISH
X-WR-CALNAME:Golden Thread Livestock Images
X-ORIGINAL-URL:https://goldenthread.ca
X-WR-CALDESC:Events for Golden Thread Livestock Images
BEGIN:VTIMEZONE
TZID:UTC
BEGIN:STANDARD
TZOFFSETFROM:+0000
TZOFFSETTO:+0000
TZNAME:UTC
DTSTART:20200101T000000
END:STANDARD
END:VTIMEZONE
BEGIN:VEVENT
DTSTART;TZID=UTC:20201221T130000
DTEND;TZID=UTC:20201221T233000
DTSTAMP:20260422T015748
CREATED:20200902T191520Z
LAST-MODIFIED:20201121T221703Z
UID:2449-1608555600-1608593400@goldenthread.ca
SUMMARY:Border Butte Angus Bull Sale
DESCRIPTION:
URL:https://goldenthread.ca/event/border-butte-angus-online-bull-sale/
LOCATION:Border Butte Angus\, Coutts\, Alberta\, Canada
ATTACH;FMTTYPE=image/jpeg:https://goldenthread.ca/wp-content/uploads/2020/09/borderButteBullSale_2020-1.jpg
ORGANIZER;CN="Castlerock%20Marketing":MAILTO:castlerock.mktg@sasktel.net
END:VEVENT
END:VCALENDAR