BEGIN:VCALENDAR
VERSION:2.0
PRODID:-//Golden Thread Livestock Images - ECPv5.9.0//NONSGML v1.0//EN
CALSCALE:GREGORIAN
METHOD:PUBLISH
X-WR-CALNAME:Golden Thread Livestock Images
X-ORIGINAL-URL:https://goldenthread.ca
X-WR-CALDESC:Events for Golden Thread Livestock Images
BEGIN:VTIMEZONE
TZID:UTC
BEGIN:STANDARD
TZOFFSETFROM:+0000
TZOFFSETTO:+0000
TZNAME:UTC
DTSTART:20250101T000000
END:STANDARD
END:VTIMEZONE
BEGIN:VEVENT
DTSTART;TZID=UTC:20250329T133000
DTEND;TZID=UTC:20250329T233000
DTSTAMP:20260423T120609
CREATED:20250310T185220Z
LAST-MODIFIED:20250314T144304Z
UID:4887-1743255000-1743291000@goldenthread.ca
SUMMARY:Borderland Cattle Co Bull Sale - with Dry Fork Cattle Co
DESCRIPTION:
URL:https://goldenthread.ca/event/borderland-cattle-co-bull-sale-with-dry-fork-cattle-co/
LOCATION:Borderland Cattle Co\, Rockglen\, saskatchewan\, Canada
ATTACH;FMTTYPE=image/jpeg:https://goldenthread.ca/wp-content/uploads/2025/03/250329BorderlandCatCov.jpg
END:VEVENT
END:VCALENDAR