BEGIN:VCALENDAR
VERSION:2.0
PRODID:-//Golden Thread Livestock Images - ECPv5.9.0//NONSGML v1.0//EN
CALSCALE:GREGORIAN
METHOD:PUBLISH
X-WR-CALNAME:Golden Thread Livestock Images
X-ORIGINAL-URL:https://goldenthread.ca
X-WR-CALDESC:Events for Golden Thread Livestock Images
BEGIN:VTIMEZONE
TZID:UTC
BEGIN:STANDARD
TZOFFSETFROM:+0000
TZOFFSETTO:+0000
TZNAME:UTC
DTSTART:20230101T000000
END:STANDARD
END:VTIMEZONE
BEGIN:VEVENT
DTSTART;TZID=UTC:20230310T130000
DTEND;TZID=UTC:20230310T233000
DTSTAMP:20260423T120448
CREATED:20230110T203205Z
LAST-MODIFIED:20230203T030344Z
UID:4155-1678453200-1678491000@goldenthread.ca
SUMMARY:Braun Ranch Ranch Ready Bull Sale
DESCRIPTION:
URL:https://goldenthread.ca/event/braun-ranch-ranch-ready-bull-sale-2/
LOCATION:Braun Ranch\, Box 3\, Simmie\, Saskatchewan\, S0N 2N0\, Canada
ATTACH;FMTTYPE=image/jpeg:https://goldenthread.ca/wp-content/uploads/2023/01/230310BraunRanchCatCov.jpg
END:VEVENT
END:VCALENDAR