BEGIN:VCALENDAR
VERSION:2.0
PRODID:-//Golden Thread Livestock Images - ECPv5.9.0//NONSGML v1.0//EN
CALSCALE:GREGORIAN
METHOD:PUBLISH
X-WR-CALNAME:Golden Thread Livestock Images
X-ORIGINAL-URL:https://goldenthread.ca
X-WR-CALDESC:Events for Golden Thread Livestock Images
BEGIN:VTIMEZONE
TZID:UTC
BEGIN:STANDARD
TZOFFSETFROM:+0000
TZOFFSETTO:+0000
TZNAME:UTC
DTSTART:20200101T000000
END:STANDARD
END:VTIMEZONE
BEGIN:VEVENT
DTSTART;TZID=UTC:20200328T130000
DTEND;TZID=UTC:20200328T233000
DTSTAMP:20260426T003011
CREATED:20200320T043524Z
LAST-MODIFIED:20200326T193703Z
UID:1854-1585400400-1585438200@goldenthread.ca
SUMMARY:Bridgeway Livestock & Smart Farms Angus 15th Annual Working Stiff's Angus & Simmental Bull & Female Sale
DESCRIPTION:
URL:https://goldenthread.ca/event/bridgeway-angus-smart-farms-15th-annual-working-stiffs-angus-simmental-bull-female-sale/
LOCATION:Smart Farms Angus\, Moosomin\, Saskatchewan\, Canada
ATTACH;FMTTYPE=image/jpeg:https://goldenthread.ca/wp-content/uploads/2020/03/200328WorkingStiffCatCov.jpg
END:VEVENT
END:VCALENDAR