BEGIN:VCALENDAR
VERSION:2.0
PRODID:-//Golden Thread Livestock Images - ECPv5.9.0//NONSGML v1.0//EN
CALSCALE:GREGORIAN
METHOD:PUBLISH
X-WR-CALNAME:Golden Thread Livestock Images
X-ORIGINAL-URL:https://goldenthread.ca
X-WR-CALDESC:Events for Golden Thread Livestock Images
BEGIN:VTIMEZONE
TZID:UTC
BEGIN:STANDARD
TZOFFSETFROM:+0000
TZOFFSETTO:+0000
TZNAME:UTC
DTSTART:20230101T000000
END:STANDARD
END:VTIMEZONE
BEGIN:VEVENT
DTSTART;TZID=UTC:20230320T130000
DTEND;TZID=UTC:20230320T233000
DTSTAMP:20260423T122210
CREATED:20230110T212007Z
LAST-MODIFIED:20230312T004048Z
UID:4166-1679317200-1679355000@goldenthread.ca
SUMMARY:Brooking Angus Ranch 11th Annual Bull Sale
DESCRIPTION:
URL:https://goldenthread.ca/event/brooking-angus-ranch-11th-annual-bull-sale/
LOCATION:Brooking Angus Ranch\, Radville\, Saskatchewan\, S0C2G0\, Canada
ATTACH;FMTTYPE=image/jpeg:https://goldenthread.ca/wp-content/uploads/2023/01/200320BrookingCatCov.jpg
END:VEVENT
END:VCALENDAR