BEGIN:VCALENDAR
VERSION:2.0
PRODID:-//Golden Thread Livestock Images - ECPv5.9.0//NONSGML v1.0//EN
CALSCALE:GREGORIAN
METHOD:PUBLISH
X-WR-CALNAME:Golden Thread Livestock Images
X-ORIGINAL-URL:https://goldenthread.ca
X-WR-CALDESC:Events for Golden Thread Livestock Images
BEGIN:VTIMEZONE
TZID:UTC
BEGIN:STANDARD
TZOFFSETFROM:+0000
TZOFFSETTO:+0000
TZNAME:UTC
DTSTART:20200101T000000
END:STANDARD
END:VTIMEZONE
BEGIN:VEVENT
DTSTART;TZID=UTC:20200407T130000
DTEND;TZID=UTC:20200407T233000
DTSTAMP:20260425T024038
CREATED:20200116T011552Z
LAST-MODIFIED:20200320T165228Z
UID:1672-1586264400-1586302200@goldenthread.ca
SUMMARY:Cedarlea Farms 17th Annual Git 'R Done Charolais Bull Sale
DESCRIPTION:
URL:https://goldenthread.ca/event/cedarlea-farms-17th-annual-git-r-done-charolais-bull-sale/
LOCATION:Windy Willows Farms\, Hodgeville\, Saskatchewan\, Canada
ATTACH;FMTTYPE=image/jpeg:https://goldenthread.ca/wp-content/uploads/2020/01/200407CedarleaCatCov.jpg
ORGANIZER;CN="By%20Livestock":MAILTO:charolaisbanner@gmail.com
END:VEVENT
END:VCALENDAR