BEGIN:VCALENDAR
VERSION:2.0
PRODID:-//Golden Thread Livestock Images - ECPv5.9.0//NONSGML v1.0//EN
CALSCALE:GREGORIAN
METHOD:PUBLISH
X-WR-CALNAME:Golden Thread Livestock Images
X-ORIGINAL-URL:https://goldenthread.ca
X-WR-CALDESC:Events for Golden Thread Livestock Images
BEGIN:VTIMEZONE
TZID:UTC
BEGIN:STANDARD
TZOFFSETFROM:+0000
TZOFFSETTO:+0000
TZNAME:UTC
DTSTART:20200101T000000
END:STANDARD
END:VTIMEZONE
BEGIN:VEVENT
DTSTART;TZID=UTC:20200330T130000
DTEND;TZID=UTC:20200330T233000
DTSTAMP:20260425T225420
CREATED:20200116T012200Z
LAST-MODIFIED:20200317T032220Z
UID:1680-1585573200-1585611000@goldenthread.ca
SUMMARY:Cockburn/Merit Bull Sale - Merit Cattle Co.
DESCRIPTION:
URL:https://goldenthread.ca/event/cockburnmerit-bull-sale/
LOCATION:Johnstone Auction Mart\, Moosejaw\, Saskatchewan\, Canada
ATTACH;FMTTYPE=image/jpeg:https://goldenthread.ca/wp-content/uploads/2020/01/200330MeritCockburnCatCov.jpg
ORGANIZER;CN="Castlerock%20Marketing":MAILTO:castlerock.mktg@sasktel.net
END:VEVENT
END:VCALENDAR