BEGIN:VCALENDAR
VERSION:2.0
PRODID:-//Golden Thread Livestock Images - ECPv5.9.0//NONSGML v1.0//EN
CALSCALE:GREGORIAN
METHOD:PUBLISH
X-WR-CALNAME:Golden Thread Livestock Images
X-ORIGINAL-URL:https://goldenthread.ca
X-WR-CALDESC:Events for Golden Thread Livestock Images
BEGIN:VTIMEZONE
TZID:UTC
BEGIN:STANDARD
TZOFFSETFROM:+0000
TZOFFSETTO:+0000
TZNAME:UTC
DTSTART:20230101T000000
END:STANDARD
END:VTIMEZONE
BEGIN:VEVENT
DTSTART;TZID=UTC:20230222T130000
DTEND;TZID=UTC:20230222T233000
DTSTAMP:20260423T121537
CREATED:20230110T195147Z
LAST-MODIFIED:20230203T030050Z
UID:4141-1677070800-1677108600@goldenthread.ca
SUMMARY:Crossroad Farms 17th Annual Bull & Female Sale
DESCRIPTION:
URL:https://goldenthread.ca/event/crossroad-farms-17th-annual-bull-female-sale/
LOCATION:Crossroad Farms\, Shell Lake\, Saskatchewan\, Canada
ATTACH;FMTTYPE=image/jpeg:https://goldenthread.ca/wp-content/uploads/2023/01/220222CrossroadsCatCov.jpg
END:VEVENT
END:VCALENDAR