BEGIN:VCALENDAR
VERSION:2.0
PRODID:-//Golden Thread Livestock Images - ECPv5.9.0//NONSGML v1.0//EN
CALSCALE:GREGORIAN
METHOD:PUBLISH
X-WR-CALNAME:Golden Thread Livestock Images
X-ORIGINAL-URL:https://goldenthread.ca
X-WR-CALDESC:Events for Golden Thread Livestock Images
BEGIN:VTIMEZONE
TZID:UTC
BEGIN:STANDARD
TZOFFSETFROM:+0000
TZOFFSETTO:+0000
TZNAME:UTC
DTSTART:20250101T000000
END:STANDARD
END:VTIMEZONE
BEGIN:VEVENT
DTSTART;TZID=UTC:20250117T080000
DTEND;TZID=UTC:20250731T170000
DTSTAMP:20260423T121212
CREATED:20250117T145919Z
LAST-MODIFIED:20250129T204555Z
UID:4826-1737100800-1753981200@goldenthread.ca
SUMMARY:DKF Red & Black Angus Private Treaty Bull Sale
DESCRIPTION:
URL:https://goldenthread.ca/event/dkf-red-black-angus-private-treaty-bull-sale-3/
LOCATION:DKF Red & Black Angus\, Box 23\, Gladmar\, Saskatchewan\, S0C 1A0\, Canada
ATTACH;FMTTYPE=image/jpeg:https://goldenthread.ca/wp-content/uploads/2025/01/DKF-BULLS-SELL-PRIVATE-TREATY-1-copy.jpg
END:VEVENT
END:VCALENDAR