BEGIN:VCALENDAR
VERSION:2.0
PRODID:-//Golden Thread Livestock Images - ECPv5.9.0//NONSGML v1.0//EN
CALSCALE:GREGORIAN
METHOD:PUBLISH
X-WR-CALNAME:Golden Thread Livestock Images
X-ORIGINAL-URL:https://goldenthread.ca
X-WR-CALDESC:Events for Golden Thread Livestock Images
BEGIN:VTIMEZONE
TZID:UTC
BEGIN:STANDARD
TZOFFSETFROM:+0000
TZOFFSETTO:+0000
TZNAME:UTC
DTSTART:20240101T000000
END:STANDARD
END:VTIMEZONE
BEGIN:VEVENT
DTSTART;TZID=UTC:20240201T080000
DTEND;TZID=UTC:20240731T233000
DTSTAMP:20260423T074628
CREATED:20240201T160541Z
LAST-MODIFIED:20240201T160541Z
UID:4793-1706774400-1722468600@goldenthread.ca
SUMMARY:DKF Red & Black Angus Private Treaty Bulls
DESCRIPTION:
URL:https://goldenthread.ca/event/dkf-red-black-angus-private-treaty-bulls-5/
LOCATION:DKF Red & Black Angus\, Box 23\, Gladmar\, Saskatchewan\, S0C 1A0\, Canada
ATTACH;FMTTYPE=image/png:https://goldenthread.ca/wp-content/uploads/2024/02/DKF-BULL-POSTER-2024.png
END:VEVENT
END:VCALENDAR