BEGIN:VCALENDAR
VERSION:2.0
PRODID:-//Golden Thread Livestock Images - ECPv5.9.0//NONSGML v1.0//EN
CALSCALE:GREGORIAN
METHOD:PUBLISH
X-WR-CALNAME:Golden Thread Livestock Images
X-ORIGINAL-URL:https://goldenthread.ca
X-WR-CALDESC:Events for Golden Thread Livestock Images
BEGIN:VTIMEZONE
TZID:UTC
BEGIN:STANDARD
TZOFFSETFROM:+0000
TZOFFSETTO:+0000
TZNAME:UTC
DTSTART:20200101T000000
END:STANDARD
END:VTIMEZONE
BEGIN:VEVENT
DTSTART;TZID=UTC:20201003T080000
DTEND;TZID=UTC:20201003T233000
DTSTAMP:20260424T042821
CREATED:20200708T200519Z
LAST-MODIFIED:20200913T163726Z
UID:2386-1601712000-1601767800@goldenthread.ca
SUMMARY:Eastondale Angus Summer Celebration Online Sale
DESCRIPTION:
URL:https://goldenthread.ca/event/eastondale-angus-summer-celebration-online-sale/
LOCATION:Eastondale Angus\, Wawota\, SK\, Canada
ATTACH;FMTTYPE=image/jpeg:https://goldenthread.ca/wp-content/uploads/2020/07/201003EastondaleCatCov.jpg
ORGANIZER;CN="Castlerock%20Marketing":MAILTO:castlerock.mktg@sasktel.net
END:VEVENT
END:VCALENDAR