BEGIN:VCALENDAR
VERSION:2.0
PRODID:-//Golden Thread Livestock Images - ECPv5.9.0//NONSGML v1.0//EN
CALSCALE:GREGORIAN
METHOD:PUBLISH
X-WR-CALNAME:Golden Thread Livestock Images
X-ORIGINAL-URL:https://goldenthread.ca
X-WR-CALDESC:Events for Golden Thread Livestock Images
BEGIN:VTIMEZONE
TZID:UTC
BEGIN:STANDARD
TZOFFSETFROM:+0000
TZOFFSETTO:+0000
TZNAME:UTC
DTSTART:20200101T000000
END:STANDARD
END:VTIMEZONE
BEGIN:VEVENT
DTSTART;TZID=UTC:20201206T130000
DTEND;TZID=UTC:20201206T233000
DTSTAMP:20260423T023439
CREATED:20200921T193456Z
LAST-MODIFIED:20201118T021522Z
UID:2464-1607259600-1607297400@goldenthread.ca
SUMMARY:Females of Merit Vol. 3
DESCRIPTION:
URL:https://goldenthread.ca/event/females-of-merit/
LOCATION:Merit Cattle Co\, Radville\, Saskatchewan\, Canada
ATTACH;FMTTYPE=image/jpeg:https://goldenthread.ca/wp-content/uploads/2020/09/201206MeritCatCov.jpg
ORGANIZER;CN="Castlerock%20Marketing":MAILTO:castlerock.mktg@sasktel.net
END:VEVENT
END:VCALENDAR