BEGIN:VCALENDAR
VERSION:2.0
PRODID:-//Golden Thread Livestock Images - ECPv5.9.0//NONSGML v1.0//EN
CALSCALE:GREGORIAN
METHOD:PUBLISH
X-WR-CALNAME:Golden Thread Livestock Images
X-ORIGINAL-URL:https://goldenthread.ca
X-WR-CALDESC:Events for Golden Thread Livestock Images
BEGIN:VTIMEZONE
TZID:UTC
BEGIN:STANDARD
TZOFFSETFROM:+0000
TZOFFSETTO:+0000
TZNAME:UTC
DTSTART:20210101T000000
END:STANDARD
END:VTIMEZONE
BEGIN:VEVENT
DTSTART;TZID=UTC:20210318T130000
DTEND;TZID=UTC:20210318T233000
DTSTAMP:20260421T173545
CREATED:20201226T191704Z
LAST-MODIFIED:20210228T144154Z
UID:2593-1616072400-1616110200@goldenthread.ca
SUMMARY:Footprint Farms Charolais Power Bull Sale
DESCRIPTION:
URL:https://goldenthread.ca/event/footprint-farms-charolais-power-bull-sale-2/
LOCATION:Footprint Farms\, Oyen\, Alberta\, T0J 2J0\, Canada
ATTACH;FMTTYPE=image/jpeg:https://goldenthread.ca/wp-content/uploads/2020/12/210318FootprintCatCov.jpg
END:VEVENT
END:VCALENDAR