BEGIN:VCALENDAR
VERSION:2.0
PRODID:-//Golden Thread Livestock Images - ECPv5.9.0//NONSGML v1.0//EN
CALSCALE:GREGORIAN
METHOD:PUBLISH
X-WR-CALNAME:Golden Thread Livestock Images
X-ORIGINAL-URL:https://goldenthread.ca
X-WR-CALDESC:Events for Golden Thread Livestock Images
BEGIN:VTIMEZONE
TZID:UTC
BEGIN:STANDARD
TZOFFSETFROM:+0000
TZOFFSETTO:+0000
TZNAME:UTC
DTSTART:20230101T000000
END:STANDARD
END:VTIMEZONE
BEGIN:VEVENT
DTSTART;TZID=UTC:20230316T153000
DTEND;TZID=UTC:20230316T233000
DTSTAMP:20260423T122324
CREATED:20230110T210645Z
LAST-MODIFIED:20230303T201254Z
UID:4161-1678980600-1679009400@goldenthread.ca
SUMMARY:Footprint Farms Charolais Power Bull Sale
DESCRIPTION:
URL:https://goldenthread.ca/event/footprint-farms-charolais-power-bull-sale-4/
LOCATION:Footprint Farms\, Oyen\, Alberta\, T0J 2J0\, Canada
ATTACH;FMTTYPE=image/jpeg:https://goldenthread.ca/wp-content/uploads/2023/01/230316FootprintCatCov.jpg
END:VEVENT
END:VCALENDAR