BEGIN:VCALENDAR
VERSION:2.0
PRODID:-//Golden Thread Livestock Images - ECPv5.9.0//NONSGML v1.0//EN
CALSCALE:GREGORIAN
METHOD:PUBLISH
X-WR-CALNAME:Golden Thread Livestock Images
X-ORIGINAL-URL:https://goldenthread.ca
X-WR-CALDESC:Events for Golden Thread Livestock Images
BEGIN:VTIMEZONE
TZID:UTC
BEGIN:STANDARD
TZOFFSETFROM:+0000
TZOFFSETTO:+0000
TZNAME:UTC
DTSTART:20200101T000000
END:STANDARD
END:VTIMEZONE
BEGIN:VEVENT
DTSTART;TZID=UTC:20201010T130000
DTEND;TZID=UTC:20201010T233000
DTSTAMP:20260424T024118
CREATED:20200804T213938Z
LAST-MODIFIED:20200923T150618Z
UID:2421-1602334800-1602372600@goldenthread.ca
SUMMARY:Gilchrist Farms & Guests "In It to Win It" Sale
DESCRIPTION:
URL:https://goldenthread.ca/event/gilchrist-farms-guests-in-it-to-win-it-sale/
LOCATION:Gilchrist Farms\, Lucknow\, Ontario\, Canada
ATTACH;FMTTYPE=image/jpeg:https://goldenthread.ca/wp-content/uploads/2020/08/201010GFCatCov.jpg
END:VEVENT
END:VCALENDAR