BEGIN:VCALENDAR
VERSION:2.0
PRODID:-//Golden Thread Livestock Images - ECPv5.9.0//NONSGML v1.0//EN
CALSCALE:GREGORIAN
METHOD:PUBLISH
X-WR-CALNAME:Golden Thread Livestock Images
X-ORIGINAL-URL:https://goldenthread.ca
X-WR-CALDESC:Events for Golden Thread Livestock Images
BEGIN:VTIMEZONE
TZID:UTC
BEGIN:STANDARD
TZOFFSETFROM:+0000
TZOFFSETTO:+0000
TZNAME:UTC
DTSTART:20230101T000000
END:STANDARD
END:VTIMEZONE
BEGIN:VEVENT
DTSTART;TZID=UTC:20230324T130000
DTEND;TZID=UTC:20230324T233000
DTSTAMP:20260423T120525
CREATED:20230110T214822Z
LAST-MODIFIED:20230227T162202Z
UID:4176-1679662800-1679700600@goldenthread.ca
SUMMARY:Glendar Angus 25th Annual 49th Parallel Bull Sale
DESCRIPTION:
URL:https://goldenthread.ca/event/glendar-angus-25th-annual-49th-parallel-bull-sale/
LOCATION:Mankota Stockmen’s Weigh Co\, Mankota\, Saskatchewan\, Canada
ATTACH;FMTTYPE=image/jpeg:https://goldenthread.ca/wp-content/uploads/2023/01/230324GlendarAngusCatCov.jpg
END:VEVENT
END:VCALENDAR