BEGIN:VCALENDAR
VERSION:2.0
PRODID:-//Golden Thread Livestock Images - ECPv5.9.0//NONSGML v1.0//EN
CALSCALE:GREGORIAN
METHOD:PUBLISH
X-WR-CALNAME:Golden Thread Livestock Images
X-ORIGINAL-URL:https://goldenthread.ca
X-WR-CALDESC:Events for Golden Thread Livestock Images
BEGIN:VTIMEZONE
TZID:UTC
BEGIN:STANDARD
TZOFFSETFROM:+0000
TZOFFSETTO:+0000
TZNAME:UTC
DTSTART:20200101T000000
END:STANDARD
END:VTIMEZONE
BEGIN:VEVENT
DTSTART;TZID=UTC:20201213T130000
DTEND;TZID=UTC:20201213T233000
DTSTAMP:20260422T174854
CREATED:20200708T202347Z
LAST-MODIFIED:20201126T163010Z
UID:2406-1607864400-1607902200@goldenthread.ca
SUMMARY:Glennie Bros. Long Yearling Bull and Bred Heifer Sale
DESCRIPTION:
URL:https://goldenthread.ca/event/glennie-bros-long-yearling-bull-and-bred-heifer-sale/
LOCATION:Glennie Bros. Angus\, Box 425\, Carnduff\, Saskatchewan\, Canada
ATTACH;FMTTYPE=image/jpeg:https://goldenthread.ca/wp-content/uploads/2020/07/201212GlennieCatCov.jpg
END:VEVENT
END:VCALENDAR