BEGIN:VCALENDAR
VERSION:2.0
PRODID:-//Golden Thread Livestock Images - ECPv5.9.0//NONSGML v1.0//EN
CALSCALE:GREGORIAN
METHOD:PUBLISH
X-WR-CALNAME:Golden Thread Livestock Images
X-ORIGINAL-URL:https://goldenthread.ca
X-WR-CALDESC:Events for Golden Thread Livestock Images
BEGIN:VTIMEZONE
TZID:UTC
BEGIN:STANDARD
TZOFFSETFROM:+0000
TZOFFSETTO:+0000
TZNAME:UTC
DTSTART:20250101T000000
END:STANDARD
END:VTIMEZONE
BEGIN:VEVENT
DTSTART;TZID=UTC:20250329T133000
DTEND;TZID=UTC:20250329T233000
DTSTAMP:20260423T121423
CREATED:20250310T154845Z
LAST-MODIFIED:20250310T184922Z
UID:4884-1743255000-1743291000@goldenthread.ca
SUMMARY:Grasslands 11th Annual Bull Sale - Cowtrax\, Holbrook & Hanson
DESCRIPTION:
URL:https://goldenthread.ca/event/grasslands-11th-annual-bull-sale-cowtrax-holbrook-hanson/
LOCATION:Mankota Stockmen’s Weigh Co\, Mankota\, Saskatchewan\, Canada
ATTACH;FMTTYPE=image/jpeg:https://goldenthread.ca/wp-content/uploads/2025/03/250329GrasslandsCatCov.jpg
ORGANIZER;CN="Castlerock%20Marketing":MAILTO:castlerock.mktg@sasktel.net
END:VEVENT
END:VCALENDAR