BEGIN:VCALENDAR
VERSION:2.0
PRODID:-//Golden Thread Livestock Images - ECPv5.9.0//NONSGML v1.0//EN
CALSCALE:GREGORIAN
METHOD:PUBLISH
X-WR-CALNAME:Golden Thread Livestock Images
X-ORIGINAL-URL:https://goldenthread.ca
X-WR-CALDESC:Events for Golden Thread Livestock Images
BEGIN:VTIMEZONE
TZID:UTC
BEGIN:STANDARD
TZOFFSETFROM:+0000
TZOFFSETTO:+0000
TZNAME:UTC
DTSTART:20230101T000000
END:STANDARD
END:VTIMEZONE
BEGIN:VEVENT
DTSTART;TZID=UTC:20230329T133000
DTEND;TZID=UTC:20230329T233000
DTSTAMP:20260423T122237
CREATED:20230110T235412Z
LAST-MODIFIED:20230227T222909Z
UID:4189-1680096600-1680132600@goldenthread.ca
SUMMARY:Hamilton Farms 28th Annual Bull & Select Female Sale
DESCRIPTION:
URL:https://goldenthread.ca/event/hamilton-farms-28th-annual-bull-select-female-sale/
LOCATION:Hamilton Farms\, Cochrane\, alberta\, Canada
ATTACH;FMTTYPE=image/jpeg:https://goldenthread.ca/wp-content/uploads/2023/01/230329HamiltonFarmsCatCov.jpg
END:VEVENT
END:VCALENDAR