BEGIN:VCALENDAR
VERSION:2.0
PRODID:-//Golden Thread Livestock Images - ECPv5.9.0//NONSGML v1.0//EN
CALSCALE:GREGORIAN
METHOD:PUBLISH
X-WR-CALNAME:Golden Thread Livestock Images
X-ORIGINAL-URL:https://goldenthread.ca
X-WR-CALDESC:Events for Golden Thread Livestock Images
BEGIN:VTIMEZONE
TZID:UTC
BEGIN:STANDARD
TZOFFSETFROM:+0000
TZOFFSETTO:+0000
TZNAME:UTC
DTSTART:20200101T000000
END:STANDARD
END:VTIMEZONE
BEGIN:VEVENT
DTSTART;TZID=UTC:20201016T140000
DTEND;TZID=UTC:20201016T233000
DTSTAMP:20260424T011710
CREATED:20200708T201139Z
LAST-MODIFIED:20201006T232527Z
UID:2390-1602856800-1602891000@goldenthread.ca
SUMMARY:Lone Pine/Airriess Acres Invitational Event
DESCRIPTION:
URL:https://goldenthread.ca/event/lone-pine-airriess-acres-invitational-event/
LOCATION:Lone Pine Cattle Services\, Vibank\, Saskatchewan\, Canada
ATTACH;FMTTYPE=image/jpeg:https://goldenthread.ca/wp-content/uploads/2020/07/201016LPAirriessCatCov.jpg
END:VEVENT
END:VCALENDAR