BEGIN:VCALENDAR
VERSION:2.0
PRODID:-//Golden Thread Livestock Images - ECPv5.9.0//NONSGML v1.0//EN
CALSCALE:GREGORIAN
METHOD:PUBLISH
X-WR-CALNAME:Golden Thread Livestock Images
X-ORIGINAL-URL:https://goldenthread.ca
X-WR-CALDESC:Events for Golden Thread Livestock Images
BEGIN:VTIMEZONE
TZID:UTC
BEGIN:STANDARD
TZOFFSETFROM:+0000
TZOFFSETTO:+0000
TZNAME:UTC
DTSTART:20230101T000000
END:STANDARD
END:VTIMEZONE
BEGIN:VEVENT
DTSTART;TZID=UTC:20231013T140000
DTEND;TZID=UTC:20231013T233000
DTSTAMP:20260423T055702
CREATED:20231006T153503Z
LAST-MODIFIED:20231006T153503Z
UID:4766-1697205600-1697239800@goldenthread.ca
SUMMARY:Lone Pine/Airriess Acres Invitational Sale
DESCRIPTION:
URL:https://goldenthread.ca/event/lone-pine-airriess-acres-invitational-sale/
LOCATION:Lone Pine Cattle Services\, Vibank\, Saskatchewan\, Canada
ATTACH;FMTTYPE=image/jpeg:https://goldenthread.ca/wp-content/uploads/2023/10/231013LPAirriessCatCov.jpg
END:VEVENT
END:VCALENDAR