BEGIN:VCALENDAR
VERSION:2.0
PRODID:-//Golden Thread Livestock Images - ECPv5.9.0//NONSGML v1.0//EN
CALSCALE:GREGORIAN
METHOD:PUBLISH
X-WR-CALNAME:Golden Thread Livestock Images
X-ORIGINAL-URL:https://goldenthread.ca
X-WR-CALDESC:Events for Golden Thread Livestock Images
BEGIN:VTIMEZONE
TZID:UTC
BEGIN:STANDARD
TZOFFSETFROM:+0000
TZOFFSETTO:+0000
TZNAME:UTC
DTSTART:20250101T000000
END:STANDARD
END:VTIMEZONE
BEGIN:VEVENT
DTSTART;TZID=UTC:20250321T130000
DTEND;TZID=UTC:20250321T233000
DTSTAMP:20260423T134232
CREATED:20250129T204927Z
LAST-MODIFIED:20250304T142820Z
UID:4836-1742562000-1742599800@goldenthread.ca
SUMMARY:Lust Farms Red Angus 2 Year Old Bull Sale
DESCRIPTION:
URL:https://goldenthread.ca/event/lust-farms-red-angus-2-year-old-bull-sale/
LOCATION:Lust Farms Red Angus\, 11405 Range Road 42\, Cypress County\, Alberta\, T1B 0K6\, Canada
ATTACH;FMTTYPE=image/jpeg:https://goldenthread.ca/wp-content/uploads/2025/01/250321LustCatCov.jpg
ORGANIZER;CN="Castlerock%20Marketing":MAILTO:castlerock.mktg@sasktel.net
END:VEVENT
END:VCALENDAR