BEGIN:VCALENDAR
VERSION:2.0
PRODID:-//Golden Thread Livestock Images - ECPv5.9.0//NONSGML v1.0//EN
CALSCALE:GREGORIAN
METHOD:PUBLISH
X-WR-CALNAME:Golden Thread Livestock Images
X-ORIGINAL-URL:https://goldenthread.ca
X-WR-CALDESC:Events for Golden Thread Livestock Images
BEGIN:VTIMEZONE
TZID:UTC
BEGIN:STANDARD
TZOFFSETFROM:+0000
TZOFFSETTO:+0000
TZNAME:UTC
DTSTART:20230101T000000
END:STANDARD
END:VTIMEZONE
BEGIN:VEVENT
DTSTART;TZID=UTC:20231020T170000
DTEND;TZID=UTC:20231020T233000
DTSTAMP:20260423T060402
CREATED:20231006T153922Z
LAST-MODIFIED:20231006T165445Z
UID:4769-1697821200-1697844600@goldenthread.ca
SUMMARY:Masterpiece Angus Sale
DESCRIPTION:
URL:https://goldenthread.ca/event/masterpiece-angus-sale-2/
LOCATION:Gold-Bar Livestock\, Box 1159\, Caronport\, Saskatchewan\, S0H 0S0\, Canada
ATTACH;FMTTYPE=image/jpeg:https://goldenthread.ca/wp-content/uploads/2023/10/231020MasterpieceCatCov.jpg
ORGANIZER;CN="Castlerock%20Marketing":MAILTO:castlerock.mktg@sasktel.net
END:VEVENT
END:VCALENDAR