BEGIN:VCALENDAR
VERSION:2.0
PRODID:-//Golden Thread Livestock Images - ECPv5.9.0//NONSGML v1.0//EN
CALSCALE:GREGORIAN
METHOD:PUBLISH
X-WR-CALNAME:Golden Thread Livestock Images
X-ORIGINAL-URL:https://goldenthread.ca
X-WR-CALDESC:Events for Golden Thread Livestock Images
BEGIN:VTIMEZONE
TZID:UTC
BEGIN:STANDARD
TZOFFSETFROM:+0000
TZOFFSETTO:+0000
TZNAME:UTC
DTSTART:20230101T000000
END:STANDARD
END:VTIMEZONE
BEGIN:VEVENT
DTSTART;TZID=UTC:20230625T080000
DTEND;TZID=UTC:20231231T233000
DTSTAMP:20260423T104334
CREATED:20231006T170048Z
LAST-MODIFIED:20231006T170516Z
UID:4773-1687680000-1704065400@goldenthread.ca
SUMMARY:2023 Moose Jaw Regional 4-H Beef Show
DESCRIPTION:
URL:https://goldenthread.ca/event/moose-jaw-regional-4-h-beef-show/
ATTACH;FMTTYPE=image/jpeg:https://goldenthread.ca/wp-content/uploads/2023/10/230624MJRegional4H-24-copy.jpg
END:VEVENT
END:VCALENDAR