BEGIN:VCALENDAR
VERSION:2.0
PRODID:-//Golden Thread Livestock Images - ECPv5.9.0//NONSGML v1.0//EN
CALSCALE:GREGORIAN
METHOD:PUBLISH
X-WR-CALNAME:Golden Thread Livestock Images
X-ORIGINAL-URL:https://goldenthread.ca
X-WR-CALDESC:Events for Golden Thread Livestock Images
BEGIN:VTIMEZONE
TZID:UTC
BEGIN:STANDARD
TZOFFSETFROM:+0000
TZOFFSETTO:+0000
TZNAME:UTC
DTSTART:20200101T000000
END:STANDARD
END:VTIMEZONE
BEGIN:VEVENT
DTSTART;TZID=UTC:20201231T180000
DTEND;TZID=UTC:20201231T233000
DTSTAMP:20260422T001851
CREATED:20200708T203636Z
LAST-MODIFIED:20200708T203636Z
UID:2414-1609437600-1609457400@goldenthread.ca
SUMMARY:New Year's Resolution Frozen Genetics Sale: Volume IX
DESCRIPTION:
URL:https://goldenthread.ca/event/new-years-resolution-frozen-genetics-sale-volume-ix/
LOCATION:Pomeroy Inn & Suites\, Olds\, Alberta\, Canada
END:VEVENT
END:VCALENDAR