BEGIN:VCALENDAR
VERSION:2.0
PRODID:-//Golden Thread Livestock Images - ECPv5.9.0//NONSGML v1.0//EN
CALSCALE:GREGORIAN
METHOD:PUBLISH
X-WR-CALNAME:Golden Thread Livestock Images
X-ORIGINAL-URL:https://goldenthread.ca
X-WR-CALDESC:Events for Golden Thread Livestock Images
BEGIN:VTIMEZONE
TZID:UTC
BEGIN:STANDARD
TZOFFSETFROM:+0000
TZOFFSETTO:+0000
TZNAME:UTC
DTSTART:20250101T000000
END:STANDARD
END:VTIMEZONE
BEGIN:VEVENT
DTSTART;TZID=UTC:20250402T130000
DTEND;TZID=UTC:20250402T233000
DTSTAMP:20260423T120444
CREATED:20250314T144157Z
LAST-MODIFIED:20250314T144157Z
UID:4896-1743598800-1743636600@goldenthread.ca
SUMMARY:Peak Dot Ranch Ltd. Spring Bull & Female Sale
DESCRIPTION:
URL:https://goldenthread.ca/event/peak-dot-ranch-ltd-spring-bull-female-sale-2/
LOCATION:Peak Dot Ranch Ltd.\, Box 105\, Wood Mountain\, Saskatchewan\, S0H4L0\, Canada
ATTACH;FMTTYPE=image/jpeg:https://goldenthread.ca/wp-content/uploads/2025/03/250402PeakDotCatCov.jpg
END:VEVENT
END:VCALENDAR