BEGIN:VCALENDAR
VERSION:2.0
PRODID:-//Golden Thread Livestock Images - ECPv5.9.0//NONSGML v1.0//EN
CALSCALE:GREGORIAN
METHOD:PUBLISH
X-WR-CALNAME:Golden Thread Livestock Images
X-ORIGINAL-URL:https://goldenthread.ca
X-WR-CALDESC:Events for Golden Thread Livestock Images
BEGIN:VTIMEZONE
TZID:UTC
BEGIN:STANDARD
TZOFFSETFROM:+0000
TZOFFSETTO:+0000
TZNAME:UTC
DTSTART:20200101T000000
END:STANDARD
END:VTIMEZONE
BEGIN:VEVENT
DTSTART;TZID=UTC:20201212T130000
DTEND;TZID=UTC:20201212T233000
DTSTAMP:20260422T192108
CREATED:20200708T202246Z
LAST-MODIFIED:20201123T055351Z
UID:2404-1607778000-1607815800@goldenthread.ca
SUMMARY:Pride of the Prairies Sale - Kenray Ranch
DESCRIPTION:
URL:https://goldenthread.ca/event/pride-of-the-prairies-sale/
LOCATION:Saskatoon Livestock Sales\, Saskatoon\, Canada
ATTACH;FMTTYPE=image/jpeg:https://goldenthread.ca/wp-content/uploads/2020/07/201212POPCatCov.jpg
ORGANIZER;CN="Castlerock%20Marketing":MAILTO:castlerock.mktg@sasktel.net
END:VEVENT
END:VCALENDAR