BEGIN:VCALENDAR
VERSION:2.0
PRODID:-//Golden Thread Livestock Images - ECPv5.9.0//NONSGML v1.0//EN
CALSCALE:GREGORIAN
METHOD:PUBLISH
X-WR-CALNAME:Golden Thread Livestock Images
X-ORIGINAL-URL:https://goldenthread.ca
X-WR-CALDESC:Events for Golden Thread Livestock Images
BEGIN:VTIMEZONE
TZID:UTC
BEGIN:STANDARD
TZOFFSETFROM:+0000
TZOFFSETTO:+0000
TZNAME:UTC
DTSTART:20210101T000000
END:STANDARD
END:VTIMEZONE
BEGIN:VEVENT
DTSTART;TZID=UTC:20210319T130000
DTEND;TZID=UTC:20210319T233000
DTSTAMP:20260421T190255
CREATED:20201226T191747Z
LAST-MODIFIED:20210219T022554Z
UID:2595-1616158800-1616196600@goldenthread.ca
SUMMARY:Scott Stock Farm The Bull Sale
DESCRIPTION:
URL:https://goldenthread.ca/event/scott-stock-farm-the-bull-sale/
LOCATION:Scott Stock Farm\, Crossfield\, Alberta\, T0M 0S0\, Canada
ATTACH;FMTTYPE=image/jpeg:https://goldenthread.ca/wp-content/uploads/2020/12/210319ScottCatCov.jpg
END:VEVENT
END:VCALENDAR