BEGIN:VCALENDAR
VERSION:2.0
PRODID:-//Golden Thread Livestock Images - ECPv5.9.0//NONSGML v1.0//EN
CALSCALE:GREGORIAN
METHOD:PUBLISH
X-WR-CALNAME:Golden Thread Livestock Images
X-ORIGINAL-URL:https://goldenthread.ca
X-WR-CALDESC:Events for Golden Thread Livestock Images
BEGIN:VTIMEZONE
TZID:UTC
BEGIN:STANDARD
TZOFFSETFROM:+0000
TZOFFSETTO:+0000
TZNAME:UTC
DTSTART:20200101T000000
END:STANDARD
END:VTIMEZONE
BEGIN:VEVENT
DTSTART;TZID=UTC:20201204T140000
DTEND;TZID=UTC:20201204T233000
DTSTAMP:20260423T075544
CREATED:20200708T201843Z
LAST-MODIFIED:20201125T222441Z
UID:2402-1607090400-1607124600@goldenthread.ca
SUMMARY:SimPower Bred Female Sale
DESCRIPTION:
URL:https://goldenthread.ca/event/simpower-bred-female-sale-3/
LOCATION:Innisfail Auction Mart\, 4504 42 St\, Innisfail\, Alberta\, T4G 1P6\, Canada
ATTACH;FMTTYPE=image/jpeg:https://goldenthread.ca/wp-content/uploads/2020/07/201204SimPowerCatCov-1.jpg
END:VEVENT
END:VCALENDAR