BEGIN:VCALENDAR
VERSION:2.0
PRODID:-//Golden Thread Livestock Images - ECPv5.9.0//NONSGML v1.0//EN
CALSCALE:GREGORIAN
METHOD:PUBLISH
X-WR-CALNAME:Golden Thread Livestock Images
X-ORIGINAL-URL:https://goldenthread.ca
X-WR-CALDESC:Events for Golden Thread Livestock Images
BEGIN:VTIMEZONE
TZID:UTC
BEGIN:STANDARD
TZOFFSETFROM:+0000
TZOFFSETTO:+0000
TZNAME:UTC
DTSTART:20200101T000000
END:STANDARD
END:VTIMEZONE
BEGIN:VEVENT
DTSTART;TZID=UTC:20201127T130000
DTEND;TZID=UTC:20201127T233000
DTSTAMP:20260423T103247
CREATED:20200828T181844Z
LAST-MODIFIED:20201119T194913Z
UID:2446-1606482000-1606519800@goldenthread.ca
SUMMARY:Six Mile Genetic Focus 2020 Production Sale
DESCRIPTION:
URL:https://goldenthread.ca/event/six-mile-genetic-focus-2020-production-sale/
LOCATION:Six Mile Ranch\, Box 8\, Fir Mountain\, Saskatchewan\, S0H 1P0\, Canada
ATTACH;FMTTYPE=image/jpeg:https://goldenthread.ca/wp-content/uploads/2020/08/201127SixMileCatCov.jpg
END:VEVENT
END:VCALENDAR