BEGIN:VCALENDAR
VERSION:2.0
PRODID:-//Golden Thread Livestock Images - ECPv5.9.0//NONSGML v1.0//EN
CALSCALE:GREGORIAN
METHOD:PUBLISH
X-WR-CALNAME:Golden Thread Livestock Images
X-ORIGINAL-URL:https://goldenthread.ca
X-WR-CALDESC:Events for Golden Thread Livestock Images
BEGIN:VTIMEZONE
TZID:UTC
BEGIN:STANDARD
TZOFFSETFROM:+0000
TZOFFSETTO:+0000
TZNAME:UTC
DTSTART:20250101T000000
END:STANDARD
END:VTIMEZONE
BEGIN:VEVENT
DTSTART;TZID=UTC:20250405T133000
DTEND;TZID=UTC:20250405T233000
DTSTAMP:20260423T122140
CREATED:20250314T172952Z
LAST-MODIFIED:20250321T180208Z
UID:4907-1743859800-1743895800@goldenthread.ca
SUMMARY:Six Mile Ranch 50th Annual Bull Sale
DESCRIPTION:
URL:https://goldenthread.ca/event/six-mile-ranch-50th-annual-bull-sale/
LOCATION:Six Mile Ranch\, Box 8\, Fir Mountain\, Saskatchewan\, S0H 1P0\, Canada
ATTACH;FMTTYPE=image/jpeg:https://goldenthread.ca/wp-content/uploads/2025/03/250405SixMileCatCov.jpg
END:VEVENT
END:VCALENDAR