BEGIN:VCALENDAR
VERSION:2.0
PRODID:-//Golden Thread Livestock Images - ECPv5.9.0//NONSGML v1.0//EN
CALSCALE:GREGORIAN
METHOD:PUBLISH
X-WR-CALNAME:Golden Thread Livestock Images
X-ORIGINAL-URL:https://goldenthread.ca
X-WR-CALDESC:Events for Golden Thread Livestock Images
BEGIN:VTIMEZONE
TZID:UTC
BEGIN:STANDARD
TZOFFSETFROM:+0000
TZOFFSETTO:+0000
TZNAME:UTC
DTSTART:20210101T000000
END:STANDARD
END:VTIMEZONE
BEGIN:VEVENT
DTSTART;TZID=UTC:20210213T130000
DTEND;TZID=UTC:20210213T233000
DTSTAMP:20260421T153108
CREATED:20210117T020241Z
LAST-MODIFIED:20210117T231821Z
UID:2709-1613221200-1613259000@goldenthread.ca
SUMMARY:Thackeray Land & Cattle Annual Gelbvieh Bull Sale
DESCRIPTION:
URL:https://goldenthread.ca/event/thackeray-land-cattle-annual-gelbvieh-bull-sale/
LOCATION:Goodwater Hall\, Goodwater\, Saskatchewan\, Canada
ATTACH;FMTTYPE=image/jpeg:https://goldenthread.ca/wp-content/uploads/2021/01/210213ThackerayCatCov.jpg
END:VEVENT
END:VCALENDAR