BEGIN:VCALENDAR
VERSION:2.0
PRODID:-//Golden Thread Livestock Images - ECPv5.9.0//NONSGML v1.0//EN
CALSCALE:GREGORIAN
METHOD:PUBLISH
X-WR-CALNAME:Golden Thread Livestock Images
X-ORIGINAL-URL:https://goldenthread.ca
X-WR-CALDESC:Events for Golden Thread Livestock Images
BEGIN:VTIMEZONE
TZID:UTC
BEGIN:STANDARD
TZOFFSETFROM:+0000
TZOFFSETTO:+0000
TZNAME:UTC
DTSTART:20240101T000000
END:STANDARD
END:VTIMEZONE
BEGIN:VEVENT
DTSTART;TZID=UTC:20240206T130000
DTEND;TZID=UTC:20240206T233000
DTSTAMP:20260423T091853
CREATED:20240112T203418Z
LAST-MODIFIED:20240112T203418Z
UID:4785-1707224400-1707262200@goldenthread.ca
SUMMARY:The Pursuit of Excellence Bull Sale
DESCRIPTION:
URL:https://goldenthread.ca/event/the-pursuit-of-excellence-bull-sale/
LOCATION:Jackson Cattle Company Sale Facility\, Box 159\, Sedley\, Saskatchewan\, S0G 4K0\, Canada
ATTACH;FMTTYPE=image/jpeg:https://goldenthread.ca/wp-content/uploads/2024/01/240206BlairsPOECatCov.jpg
END:VEVENT
END:VCALENDAR