BEGIN:VCALENDAR
VERSION:2.0
PRODID:-//Golden Thread Livestock Images - ECPv5.9.0//NONSGML v1.0//EN
CALSCALE:GREGORIAN
METHOD:PUBLISH
X-WR-CALNAME:Golden Thread Livestock Images
X-ORIGINAL-URL:https://goldenthread.ca
X-WR-CALDESC:Events for Golden Thread Livestock Images
BEGIN:VTIMEZONE
TZID:UTC
BEGIN:STANDARD
TZOFFSETFROM:+0000
TZOFFSETTO:+0000
TZNAME:UTC
DTSTART:20200101T000000
END:STANDARD
END:VTIMEZONE
BEGIN:VEVENT
DTSTART;TZID=UTC:20201024T130000
DTEND;TZID=UTC:20201024T233000
DTSTAMP:20260423T151529
CREATED:20201006T212815Z
LAST-MODIFIED:20201006T232735Z
UID:2480-1603544400-1603582200@goldenthread.ca
SUMMARY:Tradition With A Vision - Yarrow Creek
DESCRIPTION:
URL:https://goldenthread.ca/event/tradition-with-a-vision-yarrow-creek/
LOCATION:Foothills Auction\, Stavely\, Alberta\, Canada
ATTACH;FMTTYPE=image/jpeg:https://goldenthread.ca/wp-content/uploads/2020/10/201024TWAVCatCov.jpg
END:VEVENT
END:VCALENDAR