BEGIN:VCALENDAR
VERSION:2.0
PRODID:-//Golden Thread Livestock Images - ECPv5.9.0//NONSGML v1.0//EN
CALSCALE:GREGORIAN
METHOD:PUBLISH
X-WR-CALNAME:Golden Thread Livestock Images
X-ORIGINAL-URL:https://goldenthread.ca
X-WR-CALDESC:Events for Golden Thread Livestock Images
BEGIN:VTIMEZONE
TZID:UTC
BEGIN:STANDARD
TZOFFSETFROM:+0000
TZOFFSETTO:+0000
TZNAME:UTC
DTSTART:20200101T000000
END:STANDARD
END:VTIMEZONE
BEGIN:VEVENT
DTSTART;TZID=UTC:20201016T190000
DTEND;TZID=UTC:20201016T233000
DTSTAMP:20260423T233218
CREATED:20200708T200616Z
LAST-MODIFIED:20200923T153631Z
UID:2388-1602874800-1602891000@goldenthread.ca
SUMMARY:Uppin' The Ante Charolais Female Sale
DESCRIPTION:
URL:https://goldenthread.ca/event/uppin-the-ante-charolais-female-sale-4/
LOCATION:Maple Hill Auction\, Hanover\, Ontario\, Canada
ATTACH;FMTTYPE=image/jpeg:https://goldenthread.ca/wp-content/uploads/2020/07/201016UTACatCov.jpg
END:VEVENT
END:VCALENDAR